BEGIN:VCALENDAR
VERSION:2.0
PRODID:-//LGBTQ Center of the Cape Fear Coast - ECPv6.10.2//NONSGML v1.0//EN
CALSCALE:GREGORIAN
METHOD:PUBLISH
X-WR-CALNAME:LGBTQ Center of the Cape Fear Coast
X-ORIGINAL-URL:https://lgbtqcapefear.org
X-WR-CALDESC:Events for LGBTQ Center of the Cape Fear Coast
REFRESH-INTERVAL;VALUE=DURATION:PT1H
X-Robots-Tag:noindex
X-PUBLISHED-TTL:PT1H
BEGIN:VTIMEZONE
TZID:America/New_York
BEGIN:DAYLIGHT
TZOFFSETFROM:-0500
TZOFFSETTO:-0400
TZNAME:EDT
DTSTART:20230312T070000
END:DAYLIGHT
BEGIN:STANDARD
TZOFFSETFROM:-0400
TZOFFSETTO:-0500
TZNAME:EST
DTSTART:20231105T060000
END:STANDARD
END:VTIMEZONE
BEGIN:VEVENT
DTSTART;TZID=America/New_York:20230402T133000
DTEND;TZID=America/New_York:20230402T150000
DTSTAMP:20260419T153037
CREATED:20230327T183111Z
LAST-MODIFIED:20230327T183111Z
UID:10003442-1680442200-1680447600@lgbtqcapefear.org
SUMMARY:Posters In Protest; Community Design Day
DESCRIPTION:Join the Queer Youth Leadership Council in making designs to show support for LGBTQ+ students! \nWhere: LGBTQ Center of the Cape Fear Coast\, 1624 Princess Street. \nWhen: April 2nd\, 2023\, 1:30-3:00pm.
URL:https://lgbtqcapefear.org/event/posters-in-protest-community-design-day/
LOCATION:The LGBTQ Center of the Cape Fear Coast\, 1506 Market St.\, Wilmington\, NC\, 28401\, United States
CATEGORIES:LGBTQ Center Events
ATTACH;FMTTYPE=image/png:https://lgbtqcapefear.org/wp-content/uploads/sites/5/2023/03/posters-in-protest-with-logo.png
GEO:34.2379765;-77.9279544
X-APPLE-STRUCTURED-LOCATION;VALUE=URI;X-ADDRESS=The LGBTQ Center of the Cape Fear Coast 1506 Market St. Wilmington NC 28401 United States;X-APPLE-RADIUS=500;X-TITLE=1506 Market St.:geo:-77.9279544,34.2379765
END:VEVENT
BEGIN:VEVENT
DTSTART;TZID=America/New_York:20230405T100000
DTEND;TZID=America/New_York:20230405T110000
DTSTAMP:20260419T153037
CREATED:20230330T171234Z
LAST-MODIFIED:20230330T171234Z
UID:10003011-1680688800-1680692400@lgbtqcapefear.org
SUMMARY:OWL Walks @ 10:00 AM
DESCRIPTION:WALKS ARE AT 10:00 AM! \nWe walk every Wednesday at varying locations around Wilmington and the surrounding area. All walking paces are welcome and accommodated.  🐕 friendly and encouraged. \nBack to our “fall” schedule!! All walks start at 10:00 am! \nApril 05 @ Smith Creek Park \nApril 12 @ Long Leaf Park \nApril 19 @ Halyburton Park \nApril 26 @ Carolina Bch St. Park \n#OWLwalksWilmington
URL:https://lgbtqcapefear.org/event/sage-walks-2-2-2-2-2-2/2023-04-05/
LOCATION:NC
ATTACH;FMTTYPE=image/png:https://lgbtqcapefear.org/wp-content/uploads/sites/5/2023/02/Copy-of-Wednesday-Walks-3.png
END:VEVENT
BEGIN:VEVENT
DTSTART;TZID=America/New_York:20230405T173000
DTEND;TZID=America/New_York:20230405T183000
DTSTAMP:20260419T153037
CREATED:20220505T212833Z
LAST-MODIFIED:20221102T185030Z
UID:10003276-1680715800-1680719400@lgbtqcapefear.org
SUMMARY:Breaking The Binary: Adult Transgender Support Group
DESCRIPTION:Do you identify as Transgender? Gender non-conforming? Intersex? Gender Queer? Nonbinary? \nIf you are 18+\, then we are the support group for you! We meet the first and third Wednesday of every month from 5:30 pm to 6:30. Contact info@lgbtqcapefear.org if you have any questions!
URL:https://lgbtqcapefear.org/event/breaking-the-binary-adult-transgender-support-group-2/2023-04-05/
LOCATION:The LGBTQ Center of the Cape Fear Coast\, 1506 Market St.\, Wilmington\, NC\, 28401\, United States
CATEGORIES:LGBTQ Center Events
ATTACH;FMTTYPE=image/png:https://lgbtqcapefear.org/wp-content/uploads/sites/5/2022/11/Breaking-the-binary-Facebook-Post.png
GEO:34.2379765;-77.9279544
X-APPLE-STRUCTURED-LOCATION;VALUE=URI;X-ADDRESS=The LGBTQ Center of the Cape Fear Coast 1506 Market St. Wilmington NC 28401 United States;X-APPLE-RADIUS=500;X-TITLE=1506 Market St.:geo:-77.9279544,34.2379765
END:VEVENT
BEGIN:VEVENT
DTSTART;TZID=America/New_York:20230405T180000
DTEND;TZID=America/New_York:20230405T200000
DTSTAMP:20260419T153037
CREATED:20221101T133417Z
LAST-MODIFIED:20221102T184756Z
UID:10003206-1680717600-1680724800@lgbtqcapefear.org
SUMMARY:WILMINGTON PRIDE YOUTH GROUP (WPYG)
DESCRIPTION:Please reserve a spot for your youth at least 24 hours prior to the meeting! \nWilmington Pride Youth Group\, a program of the LGBTQ Center of the Cape Fear Coast\, serves youth in grades 7 through 12. \nMeetings are held the 1st and 3rd Wednesday of the month from 6:00-8:00 pm (in person\, woohoo!). \nTo maintain the safety and privacy of all youth\, parents are not permitted to stay for the meeting. If you would like to meet with the facilitators\, or for location/more information\, please email us at wpyg@lgbtqcapefear.org.
URL:https://lgbtqcapefear.org/event/wilmington-pride-youth-group-wpyg-11-2/2023-04-05/
LOCATION:NC
CATEGORIES:LGBTQ Center Events
ATTACH;FMTTYPE=image/png:https://lgbtqcapefear.org/wp-content/uploads/sites/5/2022/08/youth-group-e1690559742204.png
END:VEVENT
BEGIN:VEVENT
DTSTART;TZID=America/New_York:20230406T190000
DTEND;TZID=America/New_York:20230406T210000
DTSTAMP:20260419T153037
CREATED:20180813T172059Z
LAST-MODIFIED:20221102T174321Z
UID:10002644-1680807600-1680814800@lgbtqcapefear.org
SUMMARY:PFLAG of Wilmington\, NC (Partner group\, offsite)
DESCRIPTION:WHAT IS PFLAG?\nPFLAG is a support group for the LGBTQI (Lesbian\, Gay\, Bisexual\, Transgendered\, Intersexed and Questioning) community and their families. The group meets once a month. All meetings are confidential and all-inclusive. \nMeetings take place the first Thursday of the month starting at 7pm. \nCONTACT: pflagwilmingtonnc@gmail.com
URL:https://lgbtqcapefear.org/event/pflag-of-wilmington-nc/2023-04-06/
LOCATION:Church of the Servant\, 4925 Oriole Drive\, Wilmington\, 28403\, United States
GEO:34.2369538;-77.8656252
X-APPLE-STRUCTURED-LOCATION;VALUE=URI;X-ADDRESS=Church of the Servant 4925 Oriole Drive Wilmington 28403 United States;X-APPLE-RADIUS=500;X-TITLE=4925 Oriole Drive:geo:-77.8656252,34.2369538
END:VEVENT
BEGIN:VEVENT
DTSTART;TZID=America/New_York:20230407T180000
DTEND;TZID=America/New_York:20230407T210000
DTSTAMP:20260419T153037
CREATED:20230320T180954Z
LAST-MODIFIED:20230320T180955Z
UID:10003388-1680890400-1680901200@lgbtqcapefear.org
SUMMARY:First Friday Family Night @ The LGBTQ Center
DESCRIPTION:Please join us for a family-friendly night out at the LGBTQ Center with activities offered for all-ages! Each month will feature a different activity- movie nights\, art projects\, games\, and more! Snacks and drinks will be provided. This is a sober\, all-ages space. Come alone\, with family\, or with friends! \nApril activity- we’re fixing up the giant wooden rainbow to get ready for Pride season!
URL:https://lgbtqcapefear.org/event/first-friday-family-night-the-lgbtq-center-2-2-2/
LOCATION:The LGBTQ Center of the Cape Fear Coast\, 1506 Market St.\, Wilmington\, NC\, 28401\, United States
ATTACH;FMTTYPE=image/png:https://lgbtqcapefear.org/wp-content/uploads/sites/5/2023/02/Help-us-fix-up-the-giant-rainbow.png
GEO:34.2379765;-77.9279544
X-APPLE-STRUCTURED-LOCATION;VALUE=URI;X-ADDRESS=The LGBTQ Center of the Cape Fear Coast 1506 Market St. Wilmington NC 28401 United States;X-APPLE-RADIUS=500;X-TITLE=1506 Market St.:geo:-77.9279544,34.2379765
END:VEVENT
BEGIN:VEVENT
DTSTART;TZID=America/New_York:20230410T190000
DTEND;TZID=America/New_York:20230410T203000
DTSTAMP:20260419T153037
CREATED:20221219T153636Z
LAST-MODIFIED:20221219T153636Z
UID:10003049-1681153200-1681158600@lgbtqcapefear.org
SUMMARY:Virtual meeting: Asexuals and Aromantics of NC (partner meeting)
DESCRIPTION:A virtual discussion/support group for Asexual\, Aromantic and questioning individuals who are 18+ \nDue to asexual and aromantic people being a pretty small minority\, this support group is for all ace’s and aro’s across the state\, regardless of city location. Currently this group is connected and offered through the LGBT center’s of Greensboro\, Durham\, Winston Salem\, Raleigh\, and Asheville. \nThe group meets virtually through Zoom on the second Monday of every month from 7pm-8:30pm EST with a facilitator. We also sometimes do virtual game nights! \n 
URL:https://lgbtqcapefear.org/event/virtual-meeting-asexuals-and-aromantics-of-nc-2/2023-04-10/
LOCATION:NC
ATTACH;FMTTYPE=image/jpeg:https://lgbtqcapefear.org/wp-content/uploads/sites/5/2022/08/image0.jpeg
END:VEVENT
BEGIN:VEVENT
DTSTART;TZID=America/New_York:20230412T100000
DTEND;TZID=America/New_York:20230412T110000
DTSTAMP:20260419T153037
CREATED:20230330T171234Z
LAST-MODIFIED:20230330T171234Z
UID:10003012-1681293600-1681297200@lgbtqcapefear.org
SUMMARY:OWL Walks @ 10:00 AM
DESCRIPTION:WALKS ARE AT 10:00 AM! \nWe walk every Wednesday at varying locations around Wilmington and the surrounding area. All walking paces are welcome and accommodated.  🐕 friendly and encouraged. \nBack to our “fall” schedule!! All walks start at 10:00 am! \nApril 05 @ Smith Creek Park \nApril 12 @ Long Leaf Park \nApril 19 @ Halyburton Park \nApril 26 @ Carolina Bch St. Park \n#OWLwalksWilmington
URL:https://lgbtqcapefear.org/event/sage-walks-2-2-2-2-2-2/2023-04-12/
LOCATION:NC
ATTACH;FMTTYPE=image/png:https://lgbtqcapefear.org/wp-content/uploads/sites/5/2023/02/Copy-of-Wednesday-Walks-3.png
END:VEVENT
BEGIN:VEVENT
DTSTART;TZID=America/New_York:20230413T180000
DTEND;TZID=America/New_York:20230413T200000
DTSTAMP:20260419T153037
CREATED:20220505T214439Z
LAST-MODIFIED:20221102T183915Z
UID:10003117-1681408800-1681416000@lgbtqcapefear.org
SUMMARY:LGBTQIA Adult GAYme Night
DESCRIPTION:Join us for Adult GAYme Night! \nPlease join us for our monthly evening of fun and games! Game night is held on the second Thursday of every month. We have a collection of games we’d love to share with you or you can feel free to bring your own if you have any you’d like to play. \nSnacks and water/soda will be provided. You are more than welcome to bring your own snacks and beverages.
URL:https://lgbtqcapefear.org/event/adult-gayme-night/2023-04-13/
LOCATION:The LGBTQ Center of the Cape Fear Coast\, 1506 Market St.\, Wilmington\, NC\, 28401\, United States
CATEGORIES:LGBTQ Center Events
ATTACH;FMTTYPE=image/png:https://lgbtqcapefear.org/wp-content/uploads/sites/5/2022/05/GAYme-Night.png
GEO:34.2379765;-77.9279544
X-APPLE-STRUCTURED-LOCATION;VALUE=URI;X-ADDRESS=The LGBTQ Center of the Cape Fear Coast 1506 Market St. Wilmington NC 28401 United States;X-APPLE-RADIUS=500;X-TITLE=1506 Market St.:geo:-77.9279544,34.2379765
END:VEVENT
BEGIN:VEVENT
DTSTART;TZID=America/New_York:20230415T100000
DTEND;TZID=America/New_York:20230415T110000
DTSTAMP:20260419T153037
CREATED:20230330T170935Z
LAST-MODIFIED:20230330T170945Z
UID:10003432-1681552800-1681556400@lgbtqcapefear.org
SUMMARY:Walk With Pride- Saturday morning!
DESCRIPTION:NO WALK IN APRIL- \nCome see us at Azalea Festival! Join us to table for a few hours or just swing by to see us and say hello!
URL:https://lgbtqcapefear.org/event/walk-with-pride-2-2-2-2-2-2-2/
LOCATION:NC
CATEGORIES:LGBTQ Center Events
ATTACH;FMTTYPE=image/png:https://lgbtqcapefear.org/wp-content/uploads/sites/5/2023/02/Blue-White-National-Walking-Day-Facebook-Post.png
ORGANIZER;CN="Ashley Daniels":MAILTO:info@lgbtqcapefear.org
END:VEVENT
BEGIN:VEVENT
DTSTART;TZID=America/New_York:20230415T100000
DTEND;TZID=America/New_York:20230415T180000
DTSTAMP:20260419T153037
CREATED:20230320T184539Z
LAST-MODIFIED:20230320T184607Z
UID:10003439-1681552800-1681581600@lgbtqcapefear.org
SUMMARY:Come to our Booth at AzaleaFestival
DESCRIPTION:Come swing by to say hello\, or stop in for a few hours! We would love to see you either way! \nWe will be tabling Saturday\, April 15 and Sunday April 16 from 10:00 am-6:00 pm. If you’re interested in volunteering at the booth to share resources\, educate the community\, and meet lots of cool people\, sign up below: \nApril 15-16\, 2023 Azalea Festival: Azalea Festival sign-up
URL:https://lgbtqcapefear.org/event/come-to-our-booth-at-azaleafestival/
LOCATION:NC
ATTACH;FMTTYPE=image/png:https://lgbtqcapefear.org/wp-content/uploads/sites/5/2023/03/Help-us-spread-queer-joy.png
END:VEVENT
BEGIN:VEVENT
DTSTART;TZID=America/New_York:20230416T100000
DTEND;TZID=America/New_York:20230416T180000
DTSTAMP:20260419T153037
CREATED:20230320T184558Z
LAST-MODIFIED:20230320T184558Z
UID:10003440-1681639200-1681668000@lgbtqcapefear.org
SUMMARY:Come to our Booth at AzaleaFestival
DESCRIPTION:Come swing by to say hello\, or stop in for a few hours! We would love to see you either way! \nWe will be tabling Saturday\, April 15 and Sunday April 16 from 10:00 am-6:00 pm. If you’re interested in volunteering at the booth to share resources\, educate the community\, and meet lots of cool people\, sign up below: \nApril 15-16\, 2023 Azalea Festival: Azalea Festival sign-up
URL:https://lgbtqcapefear.org/event/come-to-our-booth-at-azaleafestival-2/
LOCATION:NC
ATTACH;FMTTYPE=image/png:https://lgbtqcapefear.org/wp-content/uploads/sites/5/2023/03/Help-us-spread-queer-joy.png
END:VEVENT
BEGIN:VEVENT
DTSTART;TZID=America/New_York:20230419T100000
DTEND;TZID=America/New_York:20230419T110000
DTSTAMP:20260419T153037
CREATED:20230330T171234Z
LAST-MODIFIED:20230330T171234Z
UID:10003013-1681898400-1681902000@lgbtqcapefear.org
SUMMARY:OWL Walks @ 10:00 AM
DESCRIPTION:WALKS ARE AT 10:00 AM! \nWe walk every Wednesday at varying locations around Wilmington and the surrounding area. All walking paces are welcome and accommodated.  🐕 friendly and encouraged. \nBack to our “fall” schedule!! All walks start at 10:00 am! \nApril 05 @ Smith Creek Park \nApril 12 @ Long Leaf Park \nApril 19 @ Halyburton Park \nApril 26 @ Carolina Bch St. Park \n#OWLwalksWilmington
URL:https://lgbtqcapefear.org/event/sage-walks-2-2-2-2-2-2/2023-04-19/
LOCATION:NC
ATTACH;FMTTYPE=image/png:https://lgbtqcapefear.org/wp-content/uploads/sites/5/2023/02/Copy-of-Wednesday-Walks-3.png
END:VEVENT
BEGIN:VEVENT
DTSTART;TZID=America/New_York:20230419T180000
DTEND;TZID=America/New_York:20230419T190000
DTSTAMP:20260419T153037
CREATED:20221102T173841Z
LAST-MODIFIED:20231020T182500Z
UID:10003844-1681927200-1681930800@lgbtqcapefear.org
SUMMARY:Breaking The Binary: Adult Transgender Support Group
DESCRIPTION:Do you identify as Transgender? Gender non-conforming? Intersex? Gender Queer? Nonbinary? \nIf you are 18+\, then we are the support group for you! We meet the first and third Wednesday of every month from 6:00 to 7:00 PM. Meetings are held at the LGBTQ Center of the Cape Fear Coast\, at 1506 Market St. \nContact info@lgbtqcapefear.org if you have any questions!
URL:https://lgbtqcapefear.org/event/breaking-the-binary-adult-transgender-support-group-3/2023-04-19/
LOCATION:The LGBTQ Center of the Cape Fear Coast\, 1506 Market St.\, Wilmington\, NC\, 28401\, United States
CATEGORIES:LGBTQ Center Events
ATTACH;FMTTYPE=image/png:https://lgbtqcapefear.org/wp-content/uploads/sites/5/2023/10/Breaking-the-Binary-updated-time1.png
GEO:34.2379765;-77.9279544
X-APPLE-STRUCTURED-LOCATION;VALUE=URI;X-ADDRESS=The LGBTQ Center of the Cape Fear Coast 1506 Market St. Wilmington NC 28401 United States;X-APPLE-RADIUS=500;X-TITLE=1506 Market St.:geo:-77.9279544,34.2379765
END:VEVENT
BEGIN:VEVENT
DTSTART;TZID=America/New_York:20230419T180000
DTEND;TZID=America/New_York:20230419T200000
DTSTAMP:20260419T153037
CREATED:20220805T144741Z
LAST-MODIFIED:20220927T130558Z
UID:10003192-1681927200-1681934400@lgbtqcapefear.org
SUMMARY:WILMINGTON PRIDE YOUTH GROUP (WPYG)
DESCRIPTION:Please reserve a spot for your youth at least 24 hours prior to the meeting! \nWilmington Pride Youth Group\, a program of the LGBTQ Center of the Cape Fear Coast\, serves youth in grades 7 through 12. \nMeetings are held the 1st and 3rd Wednesday of the month from 6:00-8:00 pm (in person\, woohoo!). \nTo maintain the safety and privacy of all youth\, parents are not permitted to stay for the meeting. If you would like to meet with the facilitators\, or for location/more information\, please email us at wpyg@lgbtqcapefear.org.
URL:https://lgbtqcapefear.org/event/wilmington-pride-youth-group-wpyg-11/2023-04-19/
LOCATION:NC
CATEGORIES:LGBTQ Center Events
ATTACH;FMTTYPE=image/png:https://lgbtqcapefear.org/wp-content/uploads/sites/5/2022/08/youth-group-e1690559742204.png
END:VEVENT
BEGIN:VEVENT
DTSTART;TZID=America/New_York:20230426T100000
DTEND;TZID=America/New_York:20230426T110000
DTSTAMP:20260419T153037
CREATED:20230330T171234Z
LAST-MODIFIED:20230330T171234Z
UID:10003014-1682503200-1682506800@lgbtqcapefear.org
SUMMARY:OWL Walks @ 10:00 AM
DESCRIPTION:WALKS ARE AT 10:00 AM! \nWe walk every Wednesday at varying locations around Wilmington and the surrounding area. All walking paces are welcome and accommodated.  🐕 friendly and encouraged. \nBack to our “fall” schedule!! All walks start at 10:00 am! \nApril 05 @ Smith Creek Park \nApril 12 @ Long Leaf Park \nApril 19 @ Halyburton Park \nApril 26 @ Carolina Bch St. Park \n#OWLwalksWilmington
URL:https://lgbtqcapefear.org/event/sage-walks-2-2-2-2-2-2/2023-04-26/
LOCATION:NC
ATTACH;FMTTYPE=image/png:https://lgbtqcapefear.org/wp-content/uploads/sites/5/2023/02/Copy-of-Wednesday-Walks-3.png
END:VEVENT
BEGIN:VEVENT
DTSTART;TZID=America/New_York:20230427T180000
DTEND;TZID=America/New_York:20230427T200000
DTSTAMP:20260419T153037
CREATED:20230331T142809Z
LAST-MODIFIED:20230331T142810Z
UID:10003163-1682618400-1682625600@lgbtqcapefear.org
SUMMARY:OWLS Night OUT!
DESCRIPTION:OWLS Night Out is a local meetup for those who are a part of the LGBTQIA+ community and are over the age of 50 (allies welcome too!). OWLS night out meets the 4th Thursday of every month from 6-8pm at differing locations! \nApril meetup- Palate\,
URL:https://lgbtqcapefear.org/event/owls-night-outside-6-2-2-2-2/
LOCATION:NC
ATTACH;FMTTYPE=image/png:https://lgbtqcapefear.org/wp-content/uploads/sites/5/2023/02/OWLS-palate.png
END:VEVENT
BEGIN:VEVENT
DTSTART;TZID=America/New_York:20230428T100000
DTEND;TZID=America/New_York:20230428T110000
DTSTAMP:20260419T153037
CREATED:20230227T203115Z
LAST-MODIFIED:20230227T203116Z
UID:10003375-1682676000-1682679600@lgbtqcapefear.org
SUMMARY:OWLS in Parliament
DESCRIPTION:OWLS in Parliament.  Coffee and conversations drop in at LGBTQ Center to facilitate programming for future OWLS activities.   Recurring last Friday every month.
URL:https://lgbtqcapefear.org/event/owls-in-parliament-2/2023-04-28/
LOCATION:NC
ATTACH;FMTTYPE=image/png:https://lgbtqcapefear.org/wp-content/uploads/sites/5/2022/12/Copy-of-Last-Friday-of-Month-OWLS-drop-in.png
END:VEVENT
BEGIN:VEVENT
DTSTART;TZID=America/New_York:20230430T130000
DTEND;TZID=America/New_York:20230430T160000
DTSTAMP:20260419T153037
CREATED:20230424T163643Z
LAST-MODIFIED:20230424T163643Z
UID:10003444-1682859600-1682870400@lgbtqcapefear.org
SUMMARY:OWLS Gay Day Picnic
DESCRIPTION:Here is the much anticipated invite to our Annual “very” Gay Day Picnic!  Here is where we share safe space\, amazing tacos and a crazy dessert contest to hoot!  LGBTQ Elders building community as only we know how.   RSVP using the link in the invite is required.  If you have any questions or concerns contact Ed Adams at owls@lgbtqcapefear.org\n\nThe picnic is free\, but if you feel the urge to donate a small amount during the RSVP process\, to help cover the costs\, we truly appreciate you.\nRSVP here –https://secure.lgbtqcapefear.org/event.jsp?event=666&
URL:https://lgbtqcapefear.org/event/owls-gay-day-picnic/
LOCATION:Long Leaf Park\, Long Leaf Park\, Shelter 4\, Wilmington\, NC\, United States
ATTACH;FMTTYPE=image/png:https://lgbtqcapefear.org/wp-content/uploads/sites/5/2023/04/232003a6-c7d2-491a-b9b1-c0456be7673f.png
END:VEVENT
END:VCALENDAR