BEGIN:VCALENDAR
VERSION:2.0
PRODID:-//LGBTQ Center of the Cape Fear Coast - ECPv6.10.2//NONSGML v1.0//EN
CALSCALE:GREGORIAN
METHOD:PUBLISH
X-ORIGINAL-URL:https://lgbtqcapefear.org
X-WR-CALDESC:Events for LGBTQ Center of the Cape Fear Coast
REFRESH-INTERVAL;VALUE=DURATION:PT1H
X-Robots-Tag:noindex
X-PUBLISHED-TTL:PT1H
BEGIN:VTIMEZONE
TZID:America/New_York
BEGIN:DAYLIGHT
TZOFFSETFROM:-0500
TZOFFSETTO:-0400
TZNAME:EDT
DTSTART:20260308T070000
END:DAYLIGHT
BEGIN:STANDARD
TZOFFSETFROM:-0400
TZOFFSETTO:-0500
TZNAME:EST
DTSTART:20261101T060000
END:STANDARD
BEGIN:DAYLIGHT
TZOFFSETFROM:-0500
TZOFFSETTO:-0400
TZNAME:EDT
DTSTART:20270314T070000
END:DAYLIGHT
BEGIN:STANDARD
TZOFFSETFROM:-0400
TZOFFSETTO:-0500
TZNAME:EST
DTSTART:20271107T060000
END:STANDARD
END:VTIMEZONE
BEGIN:VEVENT
DTSTART;TZID=America/New_York:20260520T180000
DTEND;TZID=America/New_York:20260520T200000
DTSTAMP:20260422T091101
CREATED:20260108T200450Z
LAST-MODIFIED:20260108T200609Z
UID:10004679-1779300000-1779307200@lgbtqcapefear.org
SUMMARY:Wilmington Pride Youth Group
DESCRIPTION:Please reserve a spot for your youth at least 24 hours prior to the meeting! \nWilmington Pride Youth Group\, a program of the LGBTQ Center of the Cape Fear Coast\, serves youth in grades 7 through 12. \nMeetings are held the 1st and 3rd Wednesday of the month from 6:00-8:00 pm. \nTo maintain the safety and privacy of all youth\, parents are not permitted to stay for the meeting. If you would like to meet with the facilitators\, or for location/more information\, please email us at wpyg@lgbtqcapefear.org.
URL:https://lgbtqcapefear.org/event/wpyg-3-2/2026-05-20/
ATTACH;FMTTYPE=image/png:https://lgbtqcapefear.org/wp-content/uploads/sites/5/2025/03/WPYG-Graphic-2026-v2-e1767902258880.png
END:VEVENT
BEGIN:VEVENT
DTSTART;TZID=America/New_York:20260617T180000
DTEND;TZID=America/New_York:20260617T200000
DTSTAMP:20260422T091101
CREATED:20260108T200450Z
LAST-MODIFIED:20260108T200609Z
UID:10005068-1781719200-1781726400@lgbtqcapefear.org
SUMMARY:Wilmington Pride Youth Group
DESCRIPTION:Please reserve a spot for your youth at least 24 hours prior to the meeting! \nWilmington Pride Youth Group\, a program of the LGBTQ Center of the Cape Fear Coast\, serves youth in grades 7 through 12. \nMeetings are held the 1st and 3rd Wednesday of the month from 6:00-8:00 pm. \nTo maintain the safety and privacy of all youth\, parents are not permitted to stay for the meeting. If you would like to meet with the facilitators\, or for location/more information\, please email us at wpyg@lgbtqcapefear.org.
URL:https://lgbtqcapefear.org/event/wpyg-3-2/2026-06-17/
ATTACH;FMTTYPE=image/png:https://lgbtqcapefear.org/wp-content/uploads/sites/5/2025/03/WPYG-Graphic-2026-v2-e1767902258880.png
END:VEVENT
BEGIN:VEVENT
DTSTART;TZID=America/New_York:20260715T180000
DTEND;TZID=America/New_York:20260715T200000
DTSTAMP:20260422T091101
CREATED:20260108T200450Z
LAST-MODIFIED:20260108T200609Z
UID:10005069-1784138400-1784145600@lgbtqcapefear.org
SUMMARY:Wilmington Pride Youth Group
DESCRIPTION:Please reserve a spot for your youth at least 24 hours prior to the meeting! \nWilmington Pride Youth Group\, a program of the LGBTQ Center of the Cape Fear Coast\, serves youth in grades 7 through 12. \nMeetings are held the 1st and 3rd Wednesday of the month from 6:00-8:00 pm. \nTo maintain the safety and privacy of all youth\, parents are not permitted to stay for the meeting. If you would like to meet with the facilitators\, or for location/more information\, please email us at wpyg@lgbtqcapefear.org.
URL:https://lgbtqcapefear.org/event/wpyg-3-2/2026-07-15/
ATTACH;FMTTYPE=image/png:https://lgbtqcapefear.org/wp-content/uploads/sites/5/2025/03/WPYG-Graphic-2026-v2-e1767902258880.png
END:VEVENT
BEGIN:VEVENT
DTSTART;TZID=America/New_York:20260819T180000
DTEND;TZID=America/New_York:20260819T200000
DTSTAMP:20260422T091101
CREATED:20260108T200450Z
LAST-MODIFIED:20260108T200609Z
UID:10005070-1787162400-1787169600@lgbtqcapefear.org
SUMMARY:Wilmington Pride Youth Group
DESCRIPTION:Please reserve a spot for your youth at least 24 hours prior to the meeting! \nWilmington Pride Youth Group\, a program of the LGBTQ Center of the Cape Fear Coast\, serves youth in grades 7 through 12. \nMeetings are held the 1st and 3rd Wednesday of the month from 6:00-8:00 pm. \nTo maintain the safety and privacy of all youth\, parents are not permitted to stay for the meeting. If you would like to meet with the facilitators\, or for location/more information\, please email us at wpyg@lgbtqcapefear.org.
URL:https://lgbtqcapefear.org/event/wpyg-3-2/2026-08-19/
ATTACH;FMTTYPE=image/png:https://lgbtqcapefear.org/wp-content/uploads/sites/5/2025/03/WPYG-Graphic-2026-v2-e1767902258880.png
END:VEVENT
BEGIN:VEVENT
DTSTART;TZID=America/New_York:20260916T180000
DTEND;TZID=America/New_York:20260916T200000
DTSTAMP:20260422T091102
CREATED:20260108T200450Z
LAST-MODIFIED:20260108T200609Z
UID:10005071-1789581600-1789588800@lgbtqcapefear.org
SUMMARY:Wilmington Pride Youth Group
DESCRIPTION:Please reserve a spot for your youth at least 24 hours prior to the meeting! \nWilmington Pride Youth Group\, a program of the LGBTQ Center of the Cape Fear Coast\, serves youth in grades 7 through 12. \nMeetings are held the 1st and 3rd Wednesday of the month from 6:00-8:00 pm. \nTo maintain the safety and privacy of all youth\, parents are not permitted to stay for the meeting. If you would like to meet with the facilitators\, or for location/more information\, please email us at wpyg@lgbtqcapefear.org.
URL:https://lgbtqcapefear.org/event/wpyg-3-2/2026-09-16/
ATTACH;FMTTYPE=image/png:https://lgbtqcapefear.org/wp-content/uploads/sites/5/2025/03/WPYG-Graphic-2026-v2-e1767902258880.png
END:VEVENT
BEGIN:VEVENT
DTSTART;TZID=America/New_York:20261021T180000
DTEND;TZID=America/New_York:20261021T200000
DTSTAMP:20260422T091102
CREATED:20260108T200450Z
LAST-MODIFIED:20260108T200609Z
UID:10005072-1792605600-1792612800@lgbtqcapefear.org
SUMMARY:Wilmington Pride Youth Group
DESCRIPTION:Please reserve a spot for your youth at least 24 hours prior to the meeting! \nWilmington Pride Youth Group\, a program of the LGBTQ Center of the Cape Fear Coast\, serves youth in grades 7 through 12. \nMeetings are held the 1st and 3rd Wednesday of the month from 6:00-8:00 pm. \nTo maintain the safety and privacy of all youth\, parents are not permitted to stay for the meeting. If you would like to meet with the facilitators\, or for location/more information\, please email us at wpyg@lgbtqcapefear.org.
URL:https://lgbtqcapefear.org/event/wpyg-3-2/2026-10-21/
ATTACH;FMTTYPE=image/png:https://lgbtqcapefear.org/wp-content/uploads/sites/5/2025/03/WPYG-Graphic-2026-v2-e1767902258880.png
END:VEVENT
BEGIN:VEVENT
DTSTART;TZID=America/New_York:20261118T180000
DTEND;TZID=America/New_York:20261118T200000
DTSTAMP:20260422T091102
CREATED:20260108T200450Z
LAST-MODIFIED:20260108T200609Z
UID:10005073-1795024800-1795032000@lgbtqcapefear.org
SUMMARY:Wilmington Pride Youth Group
DESCRIPTION:Please reserve a spot for your youth at least 24 hours prior to the meeting! \nWilmington Pride Youth Group\, a program of the LGBTQ Center of the Cape Fear Coast\, serves youth in grades 7 through 12. \nMeetings are held the 1st and 3rd Wednesday of the month from 6:00-8:00 pm. \nTo maintain the safety and privacy of all youth\, parents are not permitted to stay for the meeting. If you would like to meet with the facilitators\, or for location/more information\, please email us at wpyg@lgbtqcapefear.org.
URL:https://lgbtqcapefear.org/event/wpyg-3-2/2026-11-18/
ATTACH;FMTTYPE=image/png:https://lgbtqcapefear.org/wp-content/uploads/sites/5/2025/03/WPYG-Graphic-2026-v2-e1767902258880.png
END:VEVENT
BEGIN:VEVENT
DTSTART;TZID=America/New_York:20261216T180000
DTEND;TZID=America/New_York:20261216T200000
DTSTAMP:20260422T091102
CREATED:20260108T200450Z
LAST-MODIFIED:20260108T200609Z
UID:10005074-1797444000-1797451200@lgbtqcapefear.org
SUMMARY:Wilmington Pride Youth Group
DESCRIPTION:Please reserve a spot for your youth at least 24 hours prior to the meeting! \nWilmington Pride Youth Group\, a program of the LGBTQ Center of the Cape Fear Coast\, serves youth in grades 7 through 12. \nMeetings are held the 1st and 3rd Wednesday of the month from 6:00-8:00 pm. \nTo maintain the safety and privacy of all youth\, parents are not permitted to stay for the meeting. If you would like to meet with the facilitators\, or for location/more information\, please email us at wpyg@lgbtqcapefear.org.
URL:https://lgbtqcapefear.org/event/wpyg-3-2/2026-12-16/
ATTACH;FMTTYPE=image/png:https://lgbtqcapefear.org/wp-content/uploads/sites/5/2025/03/WPYG-Graphic-2026-v2-e1767902258880.png
END:VEVENT
BEGIN:VEVENT
DTSTART;TZID=America/New_York:20270120T180000
DTEND;TZID=America/New_York:20270120T200000
DTSTAMP:20260422T091102
CREATED:20260108T200450Z
LAST-MODIFIED:20260108T200609Z
UID:10005075-1800468000-1800475200@lgbtqcapefear.org
SUMMARY:Wilmington Pride Youth Group
DESCRIPTION:Please reserve a spot for your youth at least 24 hours prior to the meeting! \nWilmington Pride Youth Group\, a program of the LGBTQ Center of the Cape Fear Coast\, serves youth in grades 7 through 12. \nMeetings are held the 1st and 3rd Wednesday of the month from 6:00-8:00 pm. \nTo maintain the safety and privacy of all youth\, parents are not permitted to stay for the meeting. If you would like to meet with the facilitators\, or for location/more information\, please email us at wpyg@lgbtqcapefear.org.
URL:https://lgbtqcapefear.org/event/wpyg-3-2/2027-01-20/
ATTACH;FMTTYPE=image/png:https://lgbtqcapefear.org/wp-content/uploads/sites/5/2025/03/WPYG-Graphic-2026-v2-e1767902258880.png
END:VEVENT
BEGIN:VEVENT
DTSTART;TZID=America/New_York:20270217T180000
DTEND;TZID=America/New_York:20270217T200000
DTSTAMP:20260422T091102
CREATED:20260108T200450Z
LAST-MODIFIED:20260108T200609Z
UID:10005076-1802887200-1802894400@lgbtqcapefear.org
SUMMARY:Wilmington Pride Youth Group
DESCRIPTION:Please reserve a spot for your youth at least 24 hours prior to the meeting! \nWilmington Pride Youth Group\, a program of the LGBTQ Center of the Cape Fear Coast\, serves youth in grades 7 through 12. \nMeetings are held the 1st and 3rd Wednesday of the month from 6:00-8:00 pm. \nTo maintain the safety and privacy of all youth\, parents are not permitted to stay for the meeting. If you would like to meet with the facilitators\, or for location/more information\, please email us at wpyg@lgbtqcapefear.org.
URL:https://lgbtqcapefear.org/event/wpyg-3-2/2027-02-17/
ATTACH;FMTTYPE=image/png:https://lgbtqcapefear.org/wp-content/uploads/sites/5/2025/03/WPYG-Graphic-2026-v2-e1767902258880.png
END:VEVENT
BEGIN:VEVENT
DTSTART;TZID=America/New_York:20270317T180000
DTEND;TZID=America/New_York:20270317T200000
DTSTAMP:20260422T091102
CREATED:20260108T200450Z
LAST-MODIFIED:20260108T200609Z
UID:10005077-1805306400-1805313600@lgbtqcapefear.org
SUMMARY:Wilmington Pride Youth Group
DESCRIPTION:Please reserve a spot for your youth at least 24 hours prior to the meeting! \nWilmington Pride Youth Group\, a program of the LGBTQ Center of the Cape Fear Coast\, serves youth in grades 7 through 12. \nMeetings are held the 1st and 3rd Wednesday of the month from 6:00-8:00 pm. \nTo maintain the safety and privacy of all youth\, parents are not permitted to stay for the meeting. If you would like to meet with the facilitators\, or for location/more information\, please email us at wpyg@lgbtqcapefear.org.
URL:https://lgbtqcapefear.org/event/wpyg-3-2/2027-03-17/
ATTACH;FMTTYPE=image/png:https://lgbtqcapefear.org/wp-content/uploads/sites/5/2025/03/WPYG-Graphic-2026-v2-e1767902258880.png
END:VEVENT
END:VCALENDAR